BEGIN:VCALENDAR
VERSION:2.0
PRODID:-//Way of Compassion Dharma Center - ECPv6.15.20//NONSGML v1.0//EN
CALSCALE:GREGORIAN
METHOD:PUBLISH
X-ORIGINAL-URL:https://wocdc.org
X-WR-CALDESC:Events for Way of Compassion Dharma Center
REFRESH-INTERVAL;VALUE=DURATION:PT1H
X-Robots-Tag:noindex
X-PUBLISHED-TTL:PT1H
BEGIN:VTIMEZONE
TZID:America/Denver
BEGIN:DAYLIGHT
TZOFFSETFROM:-0700
TZOFFSETTO:-0600
TZNAME:MDT
DTSTART:20250309T090000
END:DAYLIGHT
BEGIN:STANDARD
TZOFFSETFROM:-0600
TZOFFSETTO:-0700
TZNAME:MST
DTSTART:20251102T080000
END:STANDARD
BEGIN:DAYLIGHT
TZOFFSETFROM:-0700
TZOFFSETTO:-0600
TZNAME:MDT
DTSTART:20260308T090000
END:DAYLIGHT
BEGIN:STANDARD
TZOFFSETFROM:-0600
TZOFFSETTO:-0700
TZNAME:MST
DTSTART:20261101T080000
END:STANDARD
BEGIN:DAYLIGHT
TZOFFSETFROM:-0700
TZOFFSETTO:-0600
TZNAME:MDT
DTSTART:20270314T090000
END:DAYLIGHT
BEGIN:STANDARD
TZOFFSETFROM:-0600
TZOFFSETTO:-0700
TZNAME:MST
DTSTART:20271107T080000
END:STANDARD
END:VTIMEZONE
BEGIN:VEVENT
DTSTART;TZID=America/Denver:20260208T093000
DTEND;TZID=America/Denver:20260208T153000
DTSTAMP:20260425T213648
CREATED:20251223T144511Z
LAST-MODIFIED:20251223T144511Z
UID:4412-1770543000-1770564600@wocdc.org
SUMMARY:Heroic Heart Retreat - Practicing Discipline
DESCRIPTION:Heroic Heart – Full-Day Retreat\nFebruary 8th\, 2026 – Online and In Person\nWe are grateful to have the opportunity to gather monthly for these precious teachings. This month’s topic will be “Practicing Discipline” based on chapter 26 of The Heroic Heart\, a commentary on the Thirty-Seven Practices of a Bodhisattva\, by Jetsunma Tenzin Palmo. These are truly precious and essential teachings for our current times. \nOffered by donation. Save the date! Registration opening soon.
URL:https://wocdc.org/event/heroic-heart-retreat-practicing-discipline/
LOCATION:Way of Compassion Dharma Center\, 520 S 3rd ST\, Suite 12\, Carbondale\, CO\, 81623\, United States
ATTACH;FMTTYPE=image/jpeg:https://wocdc.org/wp-content/uploads/2023/11/JTP-Heroic-Heart.jpg
END:VEVENT
END:VCALENDAR